BEGIN:VCALENDAR
VERSION:2.0
PRODID:-//ical.marudot.com//iCal Event Maker
CALSCALE:GREGORIAN
BEGIN:VTIMEZONE
TZID:Europe/Vienna
LAST-MODIFIED:20240422T053450Z
TZURL:https://www.tzurl.org/zoneinfo-outlook/Europe/Vienna
X-LIC-LOCATION:Europe/Vienna
BEGIN:DAYLIGHT
TZNAME:CEST
TZOFFSETFROM:+0100
TZOFFSETTO:+0200
DTSTART:19700329T020000
RRULE:FREQ=YEARLY;BYMONTH=3;BYDAY=-1SU
END:DAYLIGHT
BEGIN:STANDARD
TZNAME:CET
TZOFFSETFROM:+0200
TZOFFSETTO:+0100
DTSTART:19701025T030000
RRULE:FREQ=YEARLY;BYMONTH=10;BYDAY=-1SU
END:STANDARD
END:VTIMEZONE
BEGIN:VEVENT
DTSTAMP:20241129T104149Z
UID:1732876878211-77192@ical.marudot.com
DTSTART;VALUE=DATE:20250520
DTEND;VALUE=DATE:20250524
SUMMARY:C4E FORUM 2025
URL:https://c4eforum.net/
DESCRIPTION:C4E Forum nije prosječna konferencija. Cilj nam je izgraditi i ojačati zajednicu za energetsku učinkovitost srednje i istočne Europe. C4E Forum postao je dvogodišnji događaj za povezivanje zajednice\, koji se sada održava već četvrti put.
LOCATION:Cavtat\, Hrvatska
END:VEVENT
END:VCALENDAR